BEGIN:VCALENDAR
VERSION:2.0
PRODID:-//hacksw/handcal//NONSGML v1.0//EN
BEGIN:VEVENT
SUMMARY:Championnat Jeunes Garcons 15/16 ans
UID:c558e97a-c4b6-405e-8d27-0665212139e2
DTSTART:20260313T230000Z
DTEND:20260314T230000Z
LOCATION:Localisation   
CATEGORIES:Sportif
STATUS:
URL;VALUE=URI:https://tennisclubveretz.sportsregions.fr/evenements/2026/03/14/championnat-jeunes-garcons-1516-ans-2428715
END:VEVENT
END:VCALENDAR
