BEGIN:VCALENDAR
VERSION:2.0
PRODID:-//hacksw/handcal//NONSGML v1.0//EN
BEGIN:VEVENT
SUMMARY:Championnat Jeunes Garcons 15/16 ans
UID:7cee0db4-9cea-4d57-b189-d7431805df37
DTSTART:20260307T230000Z
DTEND:20260308T230000Z
LOCATION:Localisation   
CATEGORIES:Sportif
STATUS:
URL;VALUE=URI:https://tennisclubveretz.sportsregions.fr/evenements/2026/03/08/championnat-jeunes-garcons-1516-ans-2425051
END:VEVENT
END:VCALENDAR
