BEGIN:VCALENDAR
VERSION:2.0
PRODID:-//hacksw/handcal//NONSGML v1.0//EN
BEGIN:VEVENT
SUMMARY:Coupe Schmidlin Messieurs
UID:79502905-7f43-4a83-9fca-1198fe6763e4
DTSTART:20260214T230000Z
DTEND:20260215T230000Z
LOCATION:Localisation   
CATEGORIES:Sportif
STATUS:
URL;VALUE=URI:https://tennisclubveretz.sportsregions.fr/evenements/2026/02/15/coupe-schmidlin-messieurs-2416467
END:VEVENT
END:VCALENDAR
